Workbook

Sheet Plan
A1: Gözden geçirilebilir bir kampanya hazırlayın
A2: Geçerli taslak, eksiksiz veya onaylanmış kampanya demek değildir. Bilinmeyen maliyetler bilinmiyor olarak kalır. Tarihler plan içindir; gerçek kanıt ve kararları ayrıca kaydedin. Toplam maliyet bağlantı, ziyaret veya sıralama tahmini değildir.
A4: Önce Plan, sonra Bütçe sayfasını doldurun. Boş maliyet bilinmiyor, sıfır ise kaydedilmiş sıfırdır. Para ve saat ayrıdır. Özet, 12 iş satırındaki eksikleri sayar ve bilinen ara toplamları gösterir. Tek para birimi kullanın; değiştirirseniz tutarları yeniden girin. Değerlendirme sayfasına yalnızca yapılan gözlemleri yazın.
A5: Amaç ve seçim | B5: Plan taslağı — onay veya gözlemlenmiş sonuç değildir
A6: Kampanya adı
A7: Okur faydası ve amaç
A8: Size ait hedef URL
A9: Hedef kitle ve bağlam
A10: Seçim ölçütleri ve hariç tutulanlar
A11: Sorumlu kişi
A12: Planlanan başlangıç
A13: Planlanan değerlendirme
A14: Planlanan bitiş
A15: Başlangıç verisi ve kanıt yöntemi
A16: Şu durumda durdurun veya değiştirin…
A17: Para birimi | B17: USD
A18: Harcama sınırı

Sheet Bütçe
A1: Gözden geçirilebilir bir kampanya hazırlayın
A2: Geçerli taslak, eksiksiz veya onaylanmış kampanya demek değildir. Bilinmeyen maliyetler bilinmiyor olarak kalır. Tarihler plan içindir; gerçek kanıt ve kararları ayrıca kaydedin. Toplam maliyet bağlantı, ziyaret veya sıralama tahmini değildir.
A4: Önce Plan, sonra Bütçe sayfasını doldurun. Boş maliyet bilinmiyor, sıfır ise kaydedilmiş sıfırdır. Para ve saat ayrıdır. Özet, 12 iş satırındaki eksikleri sayar ve bilinen ara toplamları gösterir. Tek para birimi kullanın; değiştirirseniz tutarları yeniden girin. Değerlendirme sayfasına yalnızca yapılan gözlemleri yazın.
A5: Teslim edilecek iş | B5: Sorumlu kişi | C5: Planlanan teslim tarihi | D5: Tahmini maliyet | E5: Taahhüt edilen tutar | F5: Gerçek harcama | G5: Tahmini saat | H5: Tahmin dayanağı / kanıt notları
I6: =--(COUNTA(A6:H6)>0) -> 0 | J6: =--NOT(IFERROR(OR(D6="",AND(ISNUMBER(D6),D6>=0,D6<=IF('Plan'!$B$17="JPY",1000000000,10000000),ROUND(D6,IF('Plan'!$B$17="JPY",0,2))=D6)),FALSE))+--NOT(IFERROR(OR(E6="",AND(ISNUMBER(E6),E6>=0,E6<=IF('Plan'!$B$17="JPY",1000000000,10000000),ROUND(E6,IF('Plan'!$B$17="JPY",0,2))=E6)),FALSE))+--NOT(IFERROR(OR(F6="",AND(ISNUMBER(F6),F6>=0,F6<=IF('Plan'!$B$17="JPY",1000000000,10000000),ROUND(F6,IF('Plan'!$B$17="JPY",0,2))=F6)),FALSE))+--NOT(IFERROR(OR(G6="",AND(ISNUMBER(G6),G6>=0,G6<=10000,ROUND(G6,2)=G6)),FALSE))+--NOT(IFERROR(OR(C6="",AND(ISNUMBER(C6),C6>=DATE(2000,1,1),C6<=DATE(2100,12,31),INT(C6)=C6,OR('Plan'!$B$12="",C6>='Plan'!$B$12),OR('Plan'!$B$14="",C6<='Plan'!$B$14))),FALSE)) -> 0
I7: =--(COUNTA(A7:H7)>0) -> 0 | J7: =--NOT(IFERROR(OR(D7="",AND(ISNUMBER(D7),D7>=0,D7<=IF('Plan'!$B$17="JPY",1000000000,10000000),ROUND(D7,IF('Plan'!$B$17="JPY",0,2))=D7)),FALSE))+--NOT(IFERROR(OR(E7="",AND(ISNUMBER(E7),E7>=0,E7<=IF('Plan'!$B$17="JPY",1000000000,10000000),ROUND(E7,IF('Plan'!$B$17="JPY",0,2))=E7)),FALSE))+--NOT(IFERROR(OR(F7="",AND(ISNUMBER(F7),F7>=0,F7<=IF('Plan'!$B$17="JPY",1000000000,10000000),ROUND(F7,IF('Plan'!$B$17="JPY",0,2))=F7)),FALSE))+--NOT(IFERROR(OR(G7="",AND(ISNUMBER(G7),G7>=0,G7<=10000,ROUND(G7,2)=G7)),FALSE))+--NOT(IFERROR(OR(C7="",AND(ISNUMBER(C7),C7>=DATE(2000,1,1),C7<=DATE(2100,12,31),INT(C7)=C7,OR('Plan'!$B$12="",C7>='Plan'!$B$12),OR('Plan'!$B$14="",C7<='Plan'!$B$14))),FALSE)) -> 0
I8: =--(COUNTA(A8:H8)>0) -> 0 | J8: =--NOT(IFERROR(OR(D8="",AND(ISNUMBER(D8),D8>=0,D8<=IF('Plan'!$B$17="JPY",1000000000,10000000),ROUND(D8,IF('Plan'!$B$17="JPY",0,2))=D8)),FALSE))+--NOT(IFERROR(OR(E8="",AND(ISNUMBER(E8),E8>=0,E8<=IF('Plan'!$B$17="JPY",1000000000,10000000),ROUND(E8,IF('Plan'!$B$17="JPY",0,2))=E8)),FALSE))+--NOT(IFERROR(OR(F8="",AND(ISNUMBER(F8),F8>=0,F8<=IF('Plan'!$B$17="JPY",1000000000,10000000),ROUND(F8,IF('Plan'!$B$17="JPY",0,2))=F8)),FALSE))+--NOT(IFERROR(OR(G8="",AND(ISNUMBER(G8),G8>=0,G8<=10000,ROUND(G8,2)=G8)),FALSE))+--NOT(IFERROR(OR(C8="",AND(ISNUMBER(C8),C8>=DATE(2000,1,1),C8<=DATE(2100,12,31),INT(C8)=C8,OR('Plan'!$B$12="",C8>='Plan'!$B$12),OR('Plan'!$B$14="",C8<='Plan'!$B$14))),FALSE)) -> 0
I9: =--(COUNTA(A9:H9)>0) -> 0 | J9: =--NOT(IFERROR(OR(D9="",AND(ISNUMBER(D9),D9>=0,D9<=IF('Plan'!$B$17="JPY",1000000000,10000000),ROUND(D9,IF('Plan'!$B$17="JPY",0,2))=D9)),FALSE))+--NOT(IFERROR(OR(E9="",AND(ISNUMBER(E9),E9>=0,E9<=IF('Plan'!$B$17="JPY",1000000000,10000000),ROUND(E9,IF('Plan'!$B$17="JPY",0,2))=E9)),FALSE))+--NOT(IFERROR(OR(F9="",AND(ISNUMBER(F9),F9>=0,F9<=IF('Plan'!$B$17="JPY",1000000000,10000000),ROUND(F9,IF('Plan'!$B$17="JPY",0,2))=F9)),FALSE))+--NOT(IFERROR(OR(G9="",AND(ISNUMBER(G9),G9>=0,G9<=10000,ROUND(G9,2)=G9)),FALSE))+--NOT(IFERROR(OR(C9="",AND(ISNUMBER(C9),C9>=DATE(2000,1,1),C9<=DATE(2100,12,31),INT(C9)=C9,OR('Plan'!$B$12="",C9>='Plan'!$B$12),OR('Plan'!$B$14="",C9<='Plan'!$B$14))),FALSE)) -> 0
I10: =--(COUNTA(A10:H10)>0) -> 0 | J10: =--NOT(IFERROR(OR(D10="",AND(ISNUMBER(D10),D10>=0,D10<=IF('Plan'!$B$17="JPY",1000000000,10000000),ROUND(D10,IF('Plan'!$B$17="JPY",0,2))=D10)),FALSE))+--NOT(IFERROR(OR(E10="",AND(ISNUMBER(E10),E10>=0,E10<=IF('Plan'!$B$17="JPY",1000000000,10000000),ROUND(E10,IF('Plan'!$B$17="JPY",0,2))=E10)),FALSE))+--NOT(IFERROR(OR(F10="",AND(ISNUMBER(F10),F10>=0,F10<=IF('Plan'!$B$17="JPY",1000000000,10000000),ROUND(F10,IF('Plan'!$B$17="JPY",0,2))=F10)),FALSE))+--NOT(IFERROR(OR(G10="",AND(ISNUMBER(G10),G10>=0,G10<=10000,ROUND(G10,2)=G10)),FALSE))+--NOT(IFERROR(OR(C10="",AND(ISNUMBER(C10),C10>=DATE(2000,1,1),C10<=DATE(2100,12,31),INT(C10)=C10,OR('Plan'!$B$12="",C10>='Plan'!$B$12),OR('Plan'!$B$14="",C10<='Plan'!$B$14))),FALSE)) -> 0
I11: =--(COUNTA(A11:H11)>0) -> 0 | J11: =--NOT(IFERROR(OR(D11="",AND(ISNUMBER(D11),D11>=0,D11<=IF('Plan'!$B$17="JPY",1000000000,10000000),ROUND(D11,IF('Plan'!$B$17="JPY",0,2))=D11)),FALSE))+--NOT(IFERROR(OR(E11="",AND(ISNUMBER(E11),E11>=0,E11<=IF('Plan'!$B$17="JPY",1000000000,10000000),ROUND(E11,IF('Plan'!$B$17="JPY",0,2))=E11)),FALSE))+--NOT(IFERROR(OR(F11="",AND(ISNUMBER(F11),F11>=0,F11<=IF('Plan'!$B$17="JPY",1000000000,10000000),ROUND(F11,IF('Plan'!$B$17="JPY",0,2))=F11)),FALSE))+--NOT(IFERROR(OR(G11="",AND(ISNUMBER(G11),G11>=0,G11<=10000,ROUND(G11,2)=G11)),FALSE))+--NOT(IFERROR(OR(C11="",AND(ISNUMBER(C11),C11>=DATE(2000,1,1),C11<=DATE(2100,12,31),INT(C11)=C11,OR('Plan'!$B$12="",C11>='Plan'!$B$12),OR('Plan'!$B$14="",C11<='Plan'!$B$14))),FALSE)) -> 0
I12: =--(COUNTA(A12:H12)>0) -> 0 | J12: =--NOT(IFERROR(OR(D12="",AND(ISNUMBER(D12),D12>=0,D12<=IF('Plan'!$B$17="JPY",1000000000,10000000),ROUND(D12,IF('Plan'!$B$17="JPY",0,2))=D12)),FALSE))+--NOT(IFERROR(OR(E12="",AND(ISNUMBER(E12),E12>=0,E12<=IF('Plan'!$B$17="JPY",1000000000,10000000),ROUND(E12,IF('Plan'!$B$17="JPY",0,2))=E12)),FALSE))+--NOT(IFERROR(OR(F12="",AND(ISNUMBER(F12),F12>=0,F12<=IF('Plan'!$B$17="JPY",1000000000,10000000),ROUND(F12,IF('Plan'!$B$17="JPY",0,2))=F12)),FALSE))+--NOT(IFERROR(OR(G12="",AND(ISNUMBER(G12),G12>=0,G12<=10000,ROUND(G12,2)=G12)),FALSE))+--NOT(IFERROR(OR(C12="",AND(ISNUMBER(C12),C12>=DATE(2000,1,1),C12<=DATE(2100,12,31),INT(C12)=C12,OR('Plan'!$B$12="",C12>='Plan'!$B$12),OR('Plan'!$B$14="",C12<='Plan'!$B$14))),FALSE)) -> 0
I13: =--(COUNTA(A13:H13)>0) -> 0 | J13: =--NOT(IFERROR(OR(D13="",AND(ISNUMBER(D13),D13>=0,D13<=IF('Plan'!$B$17="JPY",1000000000,10000000),ROUND(D13,IF('Plan'!$B$17="JPY",0,2))=D13)),FALSE))+--NOT(IFERROR(OR(E13="",AND(ISNUMBER(E13),E13>=0,E13<=IF('Plan'!$B$17="JPY",1000000000,10000000),ROUND(E13,IF('Plan'!$B$17="JPY",0,2))=E13)),FALSE))+--NOT(IFERROR(OR(F13="",AND(ISNUMBER(F13),F13>=0,F13<=IF('Plan'!$B$17="JPY",1000000000,10000000),ROUND(F13,IF('Plan'!$B$17="JPY",0,2))=F13)),FALSE))+--NOT(IFERROR(OR(G13="",AND(ISNUMBER(G13),G13>=0,G13<=10000,ROUND(G13,2)=G13)),FALSE))+--NOT(IFERROR(OR(C13="",AND(ISNUMBER(C13),C13>=DATE(2000,1,1),C13<=DATE(2100,12,31),INT(C13)=C13,OR('Plan'!$B$12="",C13>='Plan'!$B$12),OR('Plan'!$B$14="",C13<='Plan'!$B$14))),FALSE)) -> 0
I14: =--(COUNTA(A14:H14)>0) -> 0 | J14: =--NOT(IFERROR(OR(D14="",AND(ISNUMBER(D14),D14>=0,D14<=IF('Plan'!$B$17="JPY",1000000000,10000000),ROUND(D14,IF('Plan'!$B$17="JPY",0,2))=D14)),FALSE))+--NOT(IFERROR(OR(E14="",AND(ISNUMBER(E14),E14>=0,E14<=IF('Plan'!$B$17="JPY",1000000000,10000000),ROUND(E14,IF('Plan'!$B$17="JPY",0,2))=E14)),FALSE))+--NOT(IFERROR(OR(F14="",AND(ISNUMBER(F14),F14>=0,F14<=IF('Plan'!$B$17="JPY",1000000000,10000000),ROUND(F14,IF('Plan'!$B$17="JPY",0,2))=F14)),FALSE))+--NOT(IFERROR(OR(G14="",AND(ISNUMBER(G14),G14>=0,G14<=10000,ROUND(G14,2)=G14)),FALSE))+--NOT(IFERROR(OR(C14="",AND(ISNUMBER(C14),C14>=DATE(2000,1,1),C14<=DATE(2100,12,31),INT(C14)=C14,OR('Plan'!$B$12="",C14>='Plan'!$B$12),OR('Plan'!$B$14="",C14<='Plan'!$B$14))),FALSE)) -> 0
I15: =--(COUNTA(A15:H15)>0) -> 0 | J15: =--NOT(IFERROR(OR(D15="",AND(ISNUMBER(D15),D15>=0,D15<=IF('Plan'!$B$17="JPY",1000000000,10000000),ROUND(D15,IF('Plan'!$B$17="JPY",0,2))=D15)),FALSE))+--NOT(IFERROR(OR(E15="",AND(ISNUMBER(E15),E15>=0,E15<=IF('Plan'!$B$17="JPY",1000000000,10000000),ROUND(E15,IF('Plan'!$B$17="JPY",0,2))=E15)),FALSE))+--NOT(IFERROR(OR(F15="",AND(ISNUMBER(F15),F15>=0,F15<=IF('Plan'!$B$17="JPY",1000000000,10000000),ROUND(F15,IF('Plan'!$B$17="JPY",0,2))=F15)),FALSE))+--NOT(IFERROR(OR(G15="",AND(ISNUMBER(G15),G15>=0,G15<=10000,ROUND(G15,2)=G15)),FALSE))+--NOT(IFERROR(OR(C15="",AND(ISNUMBER(C15),C15>=DATE(2000,1,1),C15<=DATE(2100,12,31),INT(C15)=C15,OR('Plan'!$B$12="",C15>='Plan'!$B$12),OR('Plan'!$B$14="",C15<='Plan'!$B$14))),FALSE)) -> 0
I16: =--(COUNTA(A16:H16)>0) -> 0 | J16: =--NOT(IFERROR(OR(D16="",AND(ISNUMBER(D16),D16>=0,D16<=IF('Plan'!$B$17="JPY",1000000000,10000000),ROUND(D16,IF('Plan'!$B$17="JPY",0,2))=D16)),FALSE))+--NOT(IFERROR(OR(E16="",AND(ISNUMBER(E16),E16>=0,E16<=IF('Plan'!$B$17="JPY",1000000000,10000000),ROUND(E16,IF('Plan'!$B$17="JPY",0,2))=E16)),FALSE))+--NOT(IFERROR(OR(F16="",AND(ISNUMBER(F16),F16>=0,F16<=IF('Plan'!$B$17="JPY",1000000000,10000000),ROUND(F16,IF('Plan'!$B$17="JPY",0,2))=F16)),FALSE))+--NOT(IFERROR(OR(G16="",AND(ISNUMBER(G16),G16>=0,G16<=10000,ROUND(G16,2)=G16)),FALSE))+--NOT(IFERROR(OR(C16="",AND(ISNUMBER(C16),C16>=DATE(2000,1,1),C16<=DATE(2100,12,31),INT(C16)=C16,OR('Plan'!$B$12="",C16>='Plan'!$B$12),OR('Plan'!$B$14="",C16<='Plan'!$B$14))),FALSE)) -> 0
I17: =--(COUNTA(A17:H17)>0) -> 0 | J17: =--NOT(IFERROR(OR(D17="",AND(ISNUMBER(D17),D17>=0,D17<=IF('Plan'!$B$17="JPY",1000000000,10000000),ROUND(D17,IF('Plan'!$B$17="JPY",0,2))=D17)),FALSE))+--NOT(IFERROR(OR(E17="",AND(ISNUMBER(E17),E17>=0,E17<=IF('Plan'!$B$17="JPY",1000000000,10000000),ROUND(E17,IF('Plan'!$B$17="JPY",0,2))=E17)),FALSE))+--NOT(IFERROR(OR(F17="",AND(ISNUMBER(F17),F17>=0,F17<=IF('Plan'!$B$17="JPY",1000000000,10000000),ROUND(F17,IF('Plan'!$B$17="JPY",0,2))=F17)),FALSE))+--NOT(IFERROR(OR(G17="",AND(ISNUMBER(G17),G17>=0,G17<=10000,ROUND(G17,2)=G17)),FALSE))+--NOT(IFERROR(OR(C17="",AND(ISNUMBER(C17),C17>=DATE(2000,1,1),C17<=DATE(2100,12,31),INT(C17)=C17,OR('Plan'!$B$12="",C17>='Plan'!$B$12),OR('Plan'!$B$14="",C17<='Plan'!$B$14))),FALSE)) -> 0
A20: Bütçe özeti | J20: =IFERROR(SUM(J6:J17)+--NOT(IFERROR(OR('Plan'!$B$18="",AND(ISNUMBER('Plan'!$B$18),'Plan'!$B$18>=0,'Plan'!$B$18<=IF('Plan'!$B$17="JPY",1000000000,10000000),ROUND('Plan'!$B$18,IF('Plan'!$B$17="JPY",0,2))='Plan'!$B$18)),FALSE))+--NOT(OR('Plan'!$B$17="USD",'Plan'!$B$17="EUR",'Plan'!$B$17="GBP",'Plan'!$B$17="TRY",'Plan'!$B$17="JPY"))+--NOT(IFERROR(OR('Plan'!$B$12="",AND(ISNUMBER('Plan'!$B$12),'Plan'!$B$12>=DATE(2000,1,1),'Plan'!$B$12<=DATE(2100,12,31),INT('Plan'!$B$12)='Plan'!$B$12)),FALSE))+--NOT(IFERROR(OR('Plan'!$B$13="",AND(ISNUMBER('Plan'!$B$13),'Plan'!$B$13>=DATE(2000,1,1),'Plan'!$B$13<=DATE(2100,12,31),INT('Plan'!$B$13)='Plan'!$B$13)),FALSE))+--NOT(IFERROR(OR('Plan'!$B$14="",AND(ISNUMBER('Plan'!$B$14),'Plan'!$B$14>=DATE(2000,1,1),'Plan'!$B$14<=DATE(2100,12,31),INT('Plan'!$B$14)='Plan'!$B$14)),FALSE))+--AND('Plan'!$B$12<>"",'Plan'!$B$13<>"",'Plan'!$B$12>'Plan'!$B$13)+--AND('Plan'!$B$13<>"",'Plan'!$B$14<>"",'Plan'!$B$13>'Plan'!$B$14)+--AND('Plan'!$B$12<>"",'Plan'!$B$14<>"",'Plan'!$B$12>'Plan'!$B$14),1) -> 0
A22: Para birimi | B22: ='Plan'!$B$17 -> USD | D22: Tahmini maliyet | E22: Taahhüt edilen tutar | F22: Gerçek harcama | G22: Tahmini saat
A23: Bilinen ara toplam | D23: =IF($J$20>0,"",ROUND(SUM(D6:D17),IF('Plan'!$B$17="JPY",0,2))) -> 0 | E23: =IF($J$20>0,"",ROUND(SUM(E6:E17),IF('Plan'!$B$17="JPY",0,2))) -> 0 | F23: =IF($J$20>0,"",ROUND(SUM(F6:F17),IF('Plan'!$B$17="JPY",0,2))) -> 0 | G23: =IF($J$20>0,"",ROUND(SUM(G6:G17),2)) -> 0
A24: Kaydedilmemiş kalemler | D24: =SUM(I6:I17)-COUNT(D6:D17) -> 0 | E24: =SUM(I6:I17)-COUNT(E6:E17) -> 0 | F24: =SUM(I6:I17)-COUNT(F6:F17) -> 0 | G24: =SUM(I6:I17)-COUNT(G6:G17) -> 0
A25: Planlanan bütçeden kalan | D25: =IF(OR($J$20>0,'Plan'!$B$18="",D24>0,SUM(I6:I17)=0),"",ROUND('Plan'!$B$18-D23,IF('Plan'!$B$17="JPY",0,2)))
A26: =IF($J$20>0,"Bu alanları kontrol edin",IF(AND(ISNUMBER(D25),D25<0),"Tüm tahmini maliyetler harcama sınırını aşıyor. Taahhütte bulunmadan önce kapsamı değiştirin veya bütçeyi yeniden onaylatın.",""))
A27: Tüm tutarlar seçilen para birimindedir. Para birimini değiştirmek tutarları dönüştürmez. Binlik ayırıcı olmadan 0.50 veya 0,50 kullanın; JPY tam sayı kabul eder. Saatler ayrı tutulur, tutarlara eklenmez.
A30: Geçerli taslak, eksiksiz veya onaylanmış kampanya demek değildir. Bilinmeyen maliyetler bilinmiyor olarak kalır. Tarihler plan içindir; gerçek kanıt ve kararları ayrıca kaydedin. Toplam maliyet bağlantı, ziyaret veya sıralama tahmini değildir.

Sheet Değerlendirme
A1: Gözden geçirilebilir bir kampanya hazırlayın
A2: Geçerli taslak, eksiksiz veya onaylanmış kampanya demek değildir. Bilinmeyen maliyetler bilinmiyor olarak kalır. Tarihler plan içindir; gerçek kanıt ve kararları ayrıca kaydedin. Toplam maliyet bağlantı, ziyaret veya sıralama tahmini değildir.
A4: Önce Plan, sonra Bütçe sayfasını doldurun. Boş maliyet bilinmiyor, sıfır ise kaydedilmiş sıfırdır. Para ve saat ayrıdır. Özet, 12 iş satırındaki eksikleri sayar ve bilinen ara toplamları gösterir. Tek para birimi kullanın; değiştirirseniz tutarları yeniden girin. Değerlendirme sayfasına yalnızca yapılan gözlemleri yazın.
A5: Gözlem tarihi | B5: Kanıt kaynağı | C5: Gözlenen sonuç | D5: Karar ve gerekçe | E5: Değerlendiren | F5: Sonraki değerlendirme tarihi
